BEGIN:VCALENDAR
VERSION:2.0
PRODID:-//Sabre//Sabre VObject 4.5.8//EN
CALSCALE:GREGORIAN
BEGIN:VEVENT
UID:sabre-vobject-a6ffe2fe-2521-408b-bdb0-b7f720544cfb
DTSTAMP:20260420T192755Z
SUMMARY:M
DESCRIPTION:https://pfarreien-bistum-augsburg.df-preview.de/m_id1693839
DTSTART;TZID=Europe/Berlin:20260318T180000
DURATION:PT30M
LOCATION:Mariä Himmelfahrt
END:VEVENT
END:VCALENDAR
