BEGIN:VCALENDAR
VERSION:2.0
PRODID:-//Sabre//Sabre VObject 4.5.8//EN
CALSCALE:GREGORIAN
BEGIN:VEVENT
UID:sabre-vobject-f8b993f2-12c6-48f0-bd42-1d1626b5673e
DTSTAMP:20260421T064212Z
SUMMARY:Männerwallfahrt im Anschluss an den Gottesdienst
DESCRIPTION:https://pfarreien-bistum-augsburg.df-preview.de/maennerwallfahr
 t-im-anschluss-an-den-gottesdienst_id1693822
DTSTART;TZID=Europe/Berlin:20260402T000000
DURATION:PT30M
LOCATION:Mariä Himmelfahrt
END:VEVENT
END:VCALENDAR
