BEGIN:VCALENDAR
VERSION:2.0
PRODID:-//Sabre//Sabre VObject 4.5.8//EN
CALSCALE:GREGORIAN
BEGIN:VEVENT
UID:sabre-vobject-fa8cc059-1b63-42ff-b85e-f0375605ffe2
DTSTAMP:20260421T160250Z
SUMMARY:Heilige Messe
DESCRIPTION:https://pfarreien-bistum-augsburg.df-preview.de/heilige-messe_i
 d1693764
DTSTART;TZID=Europe/Berlin:20260327T191500
DURATION:PT30M
LOCATION:St. Michael\, An d. Halde 21\, 87679 Westendorf
END:VEVENT
END:VCALENDAR
