BEGIN:VCALENDAR
VERSION:2.0
PRODID:-//Sabre//Sabre VObject 4.5.8//EN
CALSCALE:GREGORIAN
BEGIN:VEVENT
UID:sabre-vobject-c2376d20-cd4e-4e65-9601-8b3c85cc8ca6
DTSTAMP:20260424T000125Z
SUMMARY:Heilige Messe in St. Johann
DESCRIPTION:https://pfarreien-bistum-augsburg.df-preview.de/heilige-messe-i
 n-st-johann_id1693750
DTSTART;TZID=Europe/Berlin:20260324T191500
DURATION:PT30M
LOCATION:St. Georg
END:VEVENT
END:VCALENDAR
