BEGIN:VCALENDAR
VERSION:2.0
PRODID:-//Sabre//Sabre VObject 4.5.8//EN
CALSCALE:GREGORIAN
BEGIN:VEVENT
UID:sabre-vobject-5aac89e3-4c25-43a1-bb34-3fcca577090a
DTSTAMP:20260422T100016Z
SUMMARY:Heilige Messe
DESCRIPTION:https://pfarreien-bistum-augsburg.df-preview.de/heilige-messe_i
 d1693717
DTSTART;TZID=Europe/Berlin:20260331T191500
DURATION:PT30M
LOCATION:St. Margareta
END:VEVENT
END:VCALENDAR
