BEGIN:VCALENDAR
VERSION:2.0
PRODID:-//Sabre//Sabre VObject 4.5.8//EN
CALSCALE:GREGORIAN
BEGIN:VEVENT
UID:sabre-vobject-31511c4f-3969-470d-ac92-782fef70f8a4
DTSTAMP:20260422T130207Z
SUMMARY:Rosenkranz
DESCRIPTION:https://pfarreien-bistum-augsburg.df-preview.de/rosenkranz_id16
 93716
DTSTART;TZID=Europe/Berlin:20260331T184500
DURATION:PT30M
LOCATION:St. Margareta
END:VEVENT
END:VCALENDAR
