BEGIN:VCALENDAR
VERSION:2.0
PRODID:-//Sabre//Sabre VObject 4.5.8//EN
CALSCALE:GREGORIAN
BEGIN:VEVENT
UID:sabre-vobject-cb21904e-ff02-448e-a17c-8794d7d2a581
DTSTAMP:20260420T170029Z
SUMMARY:ökumen. Abendgebet
DESCRIPTION:https://pfarreien-bistum-augsburg.df-preview.de/oekumen-abendge
 bet_id1693571
DTSTART;TZID=Europe/Berlin:20260508T200000
DURATION:PT30M
LOCATION:Mariä Heimsuchung\, Maria am Wege 1\, 86949 Windach
END:VEVENT
END:VCALENDAR
