BEGIN:VCALENDAR
VERSION:2.0
PRODID:-//Sabre//Sabre VObject 4.5.8//EN
CALSCALE:GREGORIAN
BEGIN:VEVENT
UID:sabre-vobject-be95fafe-9331-4000-b9c9-948ed9a75731
DTSTAMP:20260421T104219Z
SUMMARY:Rosenkranz
DESCRIPTION:https://pfarreien-bistum-augsburg.df-preview.de/rosenkranz_id16
 93524
DTSTART;TZID=Europe/Berlin:20260411T180000
DURATION:PT30M
LOCATION:Mariä Heimsuchung\, Maria am Wege 1\, 86949 Windach
END:VEVENT
END:VCALENDAR
