BEGIN:VCALENDAR
VERSION:2.0
PRODID:-//Sabre//Sabre VObject 4.5.8//EN
CALSCALE:GREGORIAN
BEGIN:VEVENT
UID:sabre-vobject-749d4d76-af54-4a82-9586-292cc3b39986
DTSTAMP:20260421T204214Z
SUMMARY:Hl. Messe
DESCRIPTION:https://pfarreien-bistum-augsburg.df-preview.de/hl-messe_id1693
 521
DTSTART;TZID=Europe/Berlin:20260406T103000
DURATION:PT30M
LOCATION:Mariä Heimsuchung\, Maria am Wege 1\, 86949 Windach
END:VEVENT
END:VCALENDAR
