BEGIN:VCALENDAR
VERSION:2.0
PRODID:-//Sabre//Sabre VObject 4.5.8//EN
CALSCALE:GREGORIAN
BEGIN:VEVENT
UID:sabre-vobject-f5568959-f090-490d-aef2-d350fc8abaf8
DTSTAMP:20260422T050126Z
SUMMARY:Hl. Messe zum letzten Abendmahl
DESCRIPTION:https://pfarreien-bistum-augsburg.df-preview.de/hl-messe-zum-le
 tzten-abendmahl_id1693520
DTSTART;TZID=Europe/Berlin:20260402T200000
DURATION:PT30M
LOCATION:Mariä Heimsuchung\, Maria am Wege 1\, 86949 Windach
END:VEVENT
END:VCALENDAR
