BEGIN:VCALENDAR
VERSION:2.0
PRODID:-//Sabre//Sabre VObject 4.5.8//EN
CALSCALE:GREGORIAN
BEGIN:VEVENT
UID:sabre-vobject-6a428bda-d20b-4665-af6f-275548f026b4
DTSTAMP:20260422T064032Z
SUMMARY:Beichtgelegenheit
DESCRIPTION:https://pfarreien-bistum-augsburg.df-preview.de/beichtgelegenhe
 it_id1693519
DTSTART;TZID=Europe/Berlin:20260401T190000
DURATION:PT30M
LOCATION:Mariä Heimsuchung\, Maria am Wege 1\, 86949 Windach
END:VEVENT
END:VCALENDAR
