BEGIN:VCALENDAR
VERSION:2.0
PRODID:-//Sabre//Sabre VObject 4.5.8//EN
CALSCALE:GREGORIAN
BEGIN:VEVENT
UID:sabre-vobject-6b591cdf-502e-4d17-b499-fd3852cdfa1d
DTSTAMP:20260422T225116Z
SUMMARY:Hl. Messe
DESCRIPTION:https://pfarreien-bistum-augsburg.df-preview.de/hl-messe_id1693
 436
DTSTART;TZID=Europe/Berlin:20260319T090000
DURATION:PT30M
LOCATION:St. Martin\, Kapellenweg 3\, 86949 Windach Hechenwang
END:VEVENT
END:VCALENDAR
