BEGIN:VCALENDAR
VERSION:2.0
PRODID:-//Sabre//Sabre VObject 4.5.8//EN
CALSCALE:GREGORIAN
BEGIN:VEVENT
UID:sabre-vobject-d7e1326f-bf85-42aa-8ad7-6f0e6ca99288
DTSTAMP:20260422T174024Z
SUMMARY:VAM
DESCRIPTION:https://pfarreien-bistum-augsburg.df-preview.de/vam_id1693398
DTSTART;TZID=Europe/Berlin:20260418T190000
DURATION:PT30M
LOCATION:Maria Immaculata\, Hauptstr. 38\, 86926 Greifenberg
END:VEVENT
END:VCALENDAR
