BEGIN:VCALENDAR
VERSION:2.0
PRODID:-//Sabre//Sabre VObject 4.5.8//EN
CALSCALE:GREGORIAN
BEGIN:VEVENT
UID:sabre-vobject-9cc03cde-b21a-4137-a88a-499b613bf9e9
DTSTAMP:20260423T090123Z
SUMMARY:Rosenkranz
DESCRIPTION:https://pfarreien-bistum-augsburg.df-preview.de/rosenkranz_id16
 93350
DTSTART;TZID=Europe/Berlin:20260410T170000
DURATION:PT30M
LOCATION:St. Georg
END:VEVENT
END:VCALENDAR
