BEGIN:VCALENDAR
VERSION:2.0
PRODID:-//Sabre//Sabre VObject 4.5.8//EN
CALSCALE:GREGORIAN
BEGIN:VEVENT
UID:sabre-vobject-d0acb8c8-a692-4663-a395-7d16d63e4f6c
DTSTAMP:20260423T154927Z
SUMMARY:Gottesdienst mit allen ehemaligen Ministranten - Vorabendmesse
DESCRIPTION:https://pfarreien-bistum-augsburg.df-preview.de/gottesdienst-mi
 t-allen-ehemaligen-ministranten-vorabendmesse_id1693329
DTSTART;TZID=Europe/Berlin:20260321T180000
DURATION:PT30M
LOCATION:St. Michael
END:VEVENT
END:VCALENDAR
