BEGIN:VCALENDAR
VERSION:2.0
PRODID:-//Sabre//Sabre VObject 4.5.8//EN
CALSCALE:GREGORIAN
BEGIN:VEVENT
UID:sabre-vobject-82862fbd-c730-43e9-a98c-0da7b6d24bb0
DTSTAMP:20260423T052049Z
SUMMARY:Kinderkreuzweg
DESCRIPTION:https://pfarreien-bistum-augsburg.df-preview.de/kinderkreuzweg_
 id1693323
DTSTART;TZID=Europe/Berlin:20260403T090000
DURATION:PT30M
LOCATION:St. Martin
END:VEVENT
END:VCALENDAR
