BEGIN:VCALENDAR
VERSION:2.0
PRODID:-//Sabre//Sabre VObject 4.5.8//EN
CALSCALE:GREGORIAN
BEGIN:VEVENT
UID:sabre-vobject-da306a89-aa19-4d43-a1c3-4cc2b8827e0d
DTSTAMP:20260423T080622Z
SUMMARY:Pfarrgottesdienst für die Lebenden und Verstorbenen der PG - Heili
 ge Messe
DESCRIPTION:https://pfarreien-bistum-augsburg.df-preview.de/pfarrgottesdien
 st-fuer-die-lebenden-und-verstorbenen-der-pg-heilige-messe_id1693321
DTSTART;TZID=Europe/Berlin:20260322T101500
DURATION:PT30M
LOCATION:St. Michael
END:VEVENT
END:VCALENDAR
