BEGIN:VCALENDAR
VERSION:2.0
PRODID:-//Sabre//Sabre VObject 4.5.8//EN
CALSCALE:GREGORIAN
BEGIN:VEVENT
UID:sabre-vobject-15ee76f0-473b-4f3e-9b62-8554b233e2a0
DTSTAMP:20260423T113945Z
SUMMARY:Heilige Messe
DESCRIPTION:https://pfarreien-bistum-augsburg.df-preview.de/heilige-messe_i
 d1693265
DTSTART;TZID=Europe/Berlin:20260327T190000
DURATION:PT30M
LOCATION:Heilig Kreuz\, Haupeltshofer Straße 2\, 86480 Aletshausen
END:VEVENT
END:VCALENDAR
