BEGIN:VCALENDAR
VERSION:2.0
PRODID:-//Sabre//Sabre VObject 4.5.8//EN
CALSCALE:GREGORIAN
BEGIN:VEVENT
UID:sabre-vobject-72424e2e-ebe4-4a66-8518-a2edf1813e72
DTSTAMP:20260423T170328Z
SUMMARY:Rosenkranz für die Verstorbenen der PG
DESCRIPTION:https://pfarreien-bistum-augsburg.df-preview.de/rosenkranz-fuer
 -die-verstorbenen-der-pg_id1693252
DTSTART;TZID=Europe/Berlin:20260321T172500
DURATION:PT30M
LOCATION:St. Michael
END:VEVENT
END:VCALENDAR
