BEGIN:VCALENDAR
VERSION:2.0
PRODID:-//Sabre//Sabre VObject 4.5.8//EN
CALSCALE:GREGORIAN
BEGIN:VEVENT
UID:sabre-vobject-9eaacdf3-e955-440a-a690-09c3c5367930
DTSTAMP:20260421T192124Z
SUMMARY:Beichte der EK-Kinder (Klasse 3a) - Kloster
DESCRIPTION:https://pfarreien-bistum-augsburg.df-preview.de/beichte-der-ek-
 kinder-klasse-3a-kloster_id1693246
DTSTART;TZID=Europe/Berlin:20260320T163000
DURATION:PT30M
LOCATION:Mariä Himmelfahrt\, Kirchenweg 6\, 89358 Kammeltal
END:VEVENT
END:VCALENDAR
