BEGIN:VCALENDAR
VERSION:2.0
PRODID:-//Sabre//Sabre VObject 4.5.8//EN
CALSCALE:GREGORIAN
BEGIN:VEVENT
UID:sabre-vobject-0a0fbe02-46ae-4167-8fda-248e14626781
DTSTAMP:20260423T084738Z
SUMMARY:Heilige Messe nach Meinung
DESCRIPTION:https://pfarreien-bistum-augsburg.df-preview.de/heilige-messe-n
 ach-meinung_id1693240
DTSTART;TZID=Europe/Berlin:20260331T180000
DURATION:PT30M
LOCATION:St. Martin
END:VEVENT
END:VCALENDAR
