BEGIN:VCALENDAR
VERSION:2.0
PRODID:-//Sabre//Sabre VObject 4.5.8//EN
CALSCALE:GREGORIAN
BEGIN:VEVENT
UID:sabre-vobject-b504ff76-8b5e-4249-a14b-6deb56f35ae4
DTSTAMP:20260422T013954Z
SUMMARY:Frühmesse
DESCRIPTION:https://pfarreien-bistum-augsburg.df-preview.de/fruehmesse_id16
 93222
DTSTART;TZID=Europe/Berlin:20260320T070000
DURATION:PT30M
LOCATION:Mariä Himmelfahrt\, Kirchenweg 6\, 89358 Kammeltal
END:VEVENT
END:VCALENDAR
