BEGIN:VCALENDAR
VERSION:2.0
PRODID:-//Sabre//Sabre VObject 4.5.8//EN
CALSCALE:GREGORIAN
BEGIN:VEVENT
UID:sabre-vobject-059e386d-98d7-4f5a-9f7c-b1fd29cb6098
DTSTAMP:20260425T193602Z
SUMMARY:Kumm zua Rua - Andacht mit meditativer Musik
DESCRIPTION:https://pfarreien-bistum-augsburg.df-preview.de/kumm-zua-rua-an
 dacht-mit-meditativer-musik_id1693190
DTSTART;TZID=Europe/Berlin:20260320T170000
DURATION:PT30M
LOCATION:St. Martin\, Kirchplatz 3\, 86701 Rohrenfels
END:VEVENT
END:VCALENDAR
