BEGIN:VCALENDAR
VERSION:2.0
PRODID:-//Sabre//Sabre VObject 4.5.8//EN
CALSCALE:GREGORIAN
BEGIN:VEVENT
UID:sabre-vobject-31b227cb-34cf-4745-8856-bb802416ea8a
DTSTAMP:20260423T022316Z
SUMMARY:Hl. Messe mit Fastenpredigt
DESCRIPTION:https://pfarreien-bistum-augsburg.df-preview.de/hl-messe-mit-fa
 stenpredigt_id1693143
DTSTART;TZID=Europe/Berlin:20260322T113000
DURATION:PT30M
LOCATION:Basilika minor St. Lorenz\, Hildegardpl.\, 87439 Kempten (Allgäu)
END:VEVENT
END:VCALENDAR
