BEGIN:VCALENDAR
VERSION:2.0
PRODID:-//Sabre//Sabre VObject 4.5.8//EN
CALSCALE:GREGORIAN
BEGIN:VEVENT
UID:sabre-vobject-561b5099-1f16-491b-8023-8b33735c0ff6
DTSTAMP:20260425T022044Z
SUMMARY:Palmweihe im Pfarrgarten\, Prozession und Heilige Messe
DESCRIPTION:https://pfarreien-bistum-augsburg.df-preview.de/palmweihe-im-pf
 arrgarten-prozession-und-heilige-messe_id1693129
DTSTART;TZID=Europe/Berlin:20260329T103000
DURATION:PT30M
LOCATION:Heilig Geist
END:VEVENT
END:VCALENDAR
