BEGIN:VCALENDAR
VERSION:2.0
PRODID:-//Sabre//Sabre VObject 4.5.8//EN
CALSCALE:GREGORIAN
BEGIN:VEVENT
UID:sabre-vobject-5e623426-3e97-4b83-918a-b1d46ea19e72
DTSTAMP:20260423T171145Z
SUMMARY:Beichtgelegenheit und Möglichkeit zur Aussprache
DESCRIPTION:https://pfarreien-bistum-augsburg.df-preview.de/beichtgelegenhe
 it-und-moeglichkeit-zur-aussprache_id1693108
DTSTART;TZID=Europe/Berlin:20260328T153000
DURATION:PT30M
LOCATION:St. Martin
END:VEVENT
END:VCALENDAR
