BEGIN:VCALENDAR
VERSION:2.0
PRODID:-//Sabre//Sabre VObject 4.5.8//EN
CALSCALE:GREGORIAN
BEGIN:VEVENT
UID:sabre-vobject-ffbf5320-c723-41bb-8b9d-1bfe491ed69d
DTSTAMP:20260423T070628Z
SUMMARY:Ökumenische Andacht zur Fastenzeit "Halt an wo läufst du hin?" (K
 rypta)
DESCRIPTION:https://pfarreien-bistum-augsburg.df-preview.de/oekumenische-an
 dacht-zur-fastenzeit-halt-an-wo-laeufst-du-hin-krypta_id1693092
DTSTART;TZID=Europe/Berlin:20260324T180000
DURATION:PT30M
LOCATION:St. Barbara
END:VEVENT
END:VCALENDAR
