BEGIN:VCALENDAR
VERSION:2.0
PRODID:-//Sabre//Sabre VObject 4.5.8//EN
CALSCALE:GREGORIAN
BEGIN:VEVENT
UID:sabre-vobject-d69cfe9e-28df-4bd5-8a9a-90080fa1f933
DTSTAMP:20260423T102500Z
SUMMARY:Erstbeichte Kommunionkinder SB
DESCRIPTION:https://pfarreien-bistum-augsburg.df-preview.de/erstbeichte-kom
 munionkinder-sb_id1693091
DTSTART;TZID=Europe/Berlin:20260324T160000
DURATION:PT30M
LOCATION:St. Barbara
END:VEVENT
END:VCALENDAR
