BEGIN:VCALENDAR
VERSION:2.0
PRODID:-//Sabre//Sabre VObject 4.5.8//EN
CALSCALE:GREGORIAN
BEGIN:VEVENT
UID:sabre-vobject-96226108-d0a3-4cf3-a909-e430c10a7285
DTSTAMP:20260420T232343Z
SUMMARY:Heilige Messe
DESCRIPTION:https://pfarreien-bistum-augsburg.df-preview.de/heilige-messe_i
 d1693049
DTSTART;TZID=Europe/Berlin:20260325T191500
DURATION:PT30M
LOCATION:Patrona Bavariae\, Obere Hauptstraße 20\, 87782 Unteregg
END:VEVENT
END:VCALENDAR
