BEGIN:VCALENDAR
VERSION:2.0
PRODID:-//Sabre//Sabre VObject 4.5.8//EN
CALSCALE:GREGORIAN
BEGIN:VEVENT
UID:sabre-vobject-f9fbe2d6-2ecb-4fb8-ac35-bc3c94089c0f
DTSTAMP:20260424T091341Z
SUMMARY:Abendmesse
DESCRIPTION:https://pfarreien-bistum-augsburg.df-preview.de/abendmesse_id16
 93017
DTSTART;TZID=Europe/Berlin:20260319T180000
DURATION:PT30M
LOCATION:St. Pankratius
END:VEVENT
END:VCALENDAR
