BEGIN:VCALENDAR
VERSION:2.0
PRODID:-//Sabre//Sabre VObject 4.5.8//EN
CALSCALE:GREGORIAN
BEGIN:VEVENT
UID:sabre-vobject-5edc6d9a-7514-4c16-875b-aec6107c9871
DTSTAMP:20260422T050127Z
SUMMARY:Kreuzwegandacht und Beichtgelegenheit
DESCRIPTION:https://pfarreien-bistum-augsburg.df-preview.de/kreuzwegandacht
 -und-beichtgelegenheit_id1692846
DTSTART;TZID=Europe/Berlin:20260331T184500
DURATION:PT30M
LOCATION:St. Ulrich
END:VEVENT
END:VCALENDAR
