BEGIN:VCALENDAR
VERSION:2.0
PRODID:-//Sabre//Sabre VObject 4.5.8//EN
CALSCALE:GREGORIAN
BEGIN:VEVENT
UID:sabre-vobject-4bfdfa5d-0ce9-4993-baef-058828a97f87
DTSTAMP:20260424T165009Z
SUMMARY:Heilige Messe nach Meinung
DESCRIPTION:https://pfarreien-bistum-augsburg.df-preview.de/heilige-messe-n
 ach-meinung_id1692833
DTSTART;TZID=Europe/Berlin:20260324T180000
DURATION:PT30M
LOCATION:St. Martin
END:VEVENT
END:VCALENDAR
