BEGIN:VCALENDAR
VERSION:2.0
PRODID:-//Sabre//Sabre VObject 4.5.8//EN
CALSCALE:GREGORIAN
BEGIN:VEVENT
UID:sabre-vobject-a1fe36ae-957d-4496-8d18-655c9218b74c
DTSTAMP:20260424T193029Z
SUMMARY:Gottesdienst
DESCRIPTION:https://pfarreien-bistum-augsburg.df-preview.de/gottesdienst_id
 1692827
DTSTART;TZID=Europe/Berlin:20260328T153000
DURATION:PT30M
LOCATION:Mariä Himmelfahrt
END:VEVENT
END:VCALENDAR
