BEGIN:VCALENDAR
VERSION:2.0
PRODID:-//Sabre//Sabre VObject 4.5.8//EN
CALSCALE:GREGORIAN
BEGIN:VEVENT
UID:sabre-vobject-83f14a4b-16fa-498a-b9c4-a742c09b4677
DTSTAMP:20260424T224000Z
SUMMARY:Heilige Messe m. Krankensalbung
DESCRIPTION:https://pfarreien-bistum-augsburg.df-preview.de/heilige-messe-m
 -krankensalbung_id1692824
DTSTART;TZID=Europe/Berlin:20260327T153000
DURATION:PT30M
LOCATION:Mariä Himmelfahrt
END:VEVENT
END:VCALENDAR
