BEGIN:VCALENDAR
VERSION:2.0
PRODID:-//Sabre//Sabre VObject 4.5.8//EN
CALSCALE:GREGORIAN
BEGIN:VEVENT
UID:sabre-vobject-627dfc50-86b2-43bc-9efd-a9f173453288
DTSTAMP:20260422T182309Z
SUMMARY:Erste feierlliche Maiandacht
DESCRIPTION:https://pfarreien-bistum-augsburg.df-preview.de/erste-feierllic
 he-maiandacht_id1692821
DTSTART;TZID=Europe/Berlin:20260430T190000
DURATION:PT30M
LOCATION:St. Peter und Paul\, Weldener Str. 4\, 87662 Kaltental
END:VEVENT
END:VCALENDAR
