BEGIN:VCALENDAR
VERSION:2.0
PRODID:-//Sabre//Sabre VObject 4.5.8//EN
CALSCALE:GREGORIAN
BEGIN:VEVENT
UID:sabre-vobject-1d9169ce-9a74-4669-b474-b182b6521b63
DTSTAMP:20260424T122720Z
SUMMARY:Hl. Messe in Blonhofen
DESCRIPTION:https://pfarreien-bistum-augsburg.df-preview.de/hl-messe-in-blo
 nhofen_id1692818
DTSTART;TZID=Europe/Berlin:20260429T191500
DURATION:PT30M
LOCATION:St. Jakobus und Philippus\, Weldener Str. 4\, 87662 Kaltental
END:VEVENT
END:VCALENDAR
