BEGIN:VCALENDAR
VERSION:2.0
PRODID:-//Sabre//Sabre VObject 4.5.8//EN
CALSCALE:GREGORIAN
BEGIN:VEVENT
UID:sabre-vobject-82110b78-a928-4662-b5da-d64f4240dd20
DTSTAMP:20260424T023944Z
SUMMARY:Festgottesdienst - Segnung der Osterspeisen-
DESCRIPTION:https://pfarreien-bistum-augsburg.df-preview.de/festgottesdiens
 t-segnung-der-osterspeisen_id1692802
DTSTART;TZID=Europe/Berlin:20260405T084500
DURATION:PT30M
LOCATION:St. Peter und Paul\, Weldener Str. 4\, 87662 Kaltental
END:VEVENT
END:VCALENDAR
