BEGIN:VCALENDAR
VERSION:2.0
PRODID:-//Sabre//Sabre VObject 4.5.8//EN
CALSCALE:GREGORIAN
BEGIN:VEVENT
UID:sabre-vobject-8addb0ba-77ee-4653-817c-b5a41ae01e8b
DTSTAMP:20260424T053223Z
SUMMARY:Auferstehungsfeier für Kinder in der Pfarrkirche Aufkirch\n
DESCRIPTION:https://pfarreien-bistum-augsburg.df-preview.de/auferstehungsfe
 ier-fuer-kinder-in-der-pfarrkirche-aufkirch_id1692801
DTSTART;TZID=Europe/Berlin:20260404T170000
DURATION:PT30M
LOCATION:St. Peter und Paul\, Weldener Str. 4\, 87662 Kaltental
END:VEVENT
END:VCALENDAR
