BEGIN:VCALENDAR
VERSION:2.0
PRODID:-//Sabre//Sabre VObject 4.5.8//EN
CALSCALE:GREGORIAN
BEGIN:VEVENT
UID:sabre-vobject-f67f4a32-18a1-45b3-96d4-006fcbd94e47
DTSTAMP:20260422T095925Z
SUMMARY:Auferstehungsfeier f. Kinder
DESCRIPTION:https://pfarreien-bistum-augsburg.df-preview.de/auferstehungsfe
 ier-f-kinder_id1692799
DTSTART;TZID=Europe/Berlin:20260404T170000
DURATION:PT30M
LOCATION:Mariä Himmelfahrt
END:VEVENT
END:VCALENDAR
