BEGIN:VCALENDAR
VERSION:2.0
PRODID:-//Sabre//Sabre VObject 4.5.8//EN
CALSCALE:GREGORIAN
BEGIN:VEVENT
UID:sabre-vobject-7f022854-7aec-4fac-a52f-05924f5ebdcc
DTSTAMP:20260424T153122Z
SUMMARY:Kreuzwegandacht
DESCRIPTION:https://pfarreien-bistum-augsburg.df-preview.de/kreuzwegandacht
 _id1692786
DTSTART;TZID=Europe/Berlin:20260327T173000
DURATION:PT30M
LOCATION:St. Martin
END:VEVENT
END:VCALENDAR
