BEGIN:VCALENDAR
VERSION:2.0
PRODID:-//Sabre//Sabre VObject 4.5.8//EN
CALSCALE:GREGORIAN
BEGIN:VEVENT
UID:sabre-vobject-b70a9543-b260-4c5f-9b2e-e2eb66001e4d
DTSTAMP:20260422T021745Z
SUMMARY:Ökum. Emmausgang nach Steinheim\, anschl. Einkehr im Sportheim Ste
 inheim
DESCRIPTION:https://pfarreien-bistum-augsburg.df-preview.de/oekum-emmausgan
 g-nach-steinheim-anschl-einkehr-im-sportheim-steinheim_id1692731
DTSTART;TZID=Europe/Berlin:20260406T163000
DURATION:PT30M
LOCATION:Mariä Himmelfahrt
END:VEVENT
END:VCALENDAR
