BEGIN:VCALENDAR
VERSION:2.0
PRODID:-//Sabre//Sabre VObject 4.5.8//EN
CALSCALE:GREGORIAN
BEGIN:VEVENT
UID:sabre-vobject-f9ff7643-fd22-4c64-9eeb-7f46f8999263
DTSTAMP:20260422T034625Z
SUMMARY:Heilige Messe\, mitgest.v. Musikverein "Donauklang"
DESCRIPTION:https://pfarreien-bistum-augsburg.df-preview.de/heilige-messe-m
 itgest-v-musikverein-donauklang_id1692730
DTSTART;TZID=Europe/Berlin:20260406T100000
DURATION:PT30M
LOCATION:Mariä Himmelfahrt
END:VEVENT
END:VCALENDAR
