BEGIN:VCALENDAR
VERSION:2.0
PRODID:-//Sabre//Sabre VObject 4.5.8//EN
CALSCALE:GREGORIAN
BEGIN:VEVENT
UID:sabre-vobject-6c6a6b0d-9209-4483-aa35-0381442f42a0
DTSTAMP:20260422T192516Z
SUMMARY:Rosenkranz in den Anliegen unserer Zeit
DESCRIPTION:https://pfarreien-bistum-augsburg.df-preview.de/rosenkranz-in-d
 en-anliegen-unserer-zeit_id1692592
DTSTART;TZID=Europe/Berlin:20260408T182500
DURATION:PT30M
LOCATION:St. Pankratius
END:VEVENT
END:VCALENDAR
