BEGIN:VCALENDAR
VERSION:2.0
PRODID:-//Sabre//Sabre VObject 4.5.8//EN
CALSCALE:GREGORIAN
BEGIN:VEVENT
UID:sabre-vobject-cd824659-4f12-4b0b-b457-14ca332e716f
DTSTAMP:20260423T015144Z
SUMMARY:Heilige Messe - musikalische Gestaltung: W.A. Mozart: Messe in C-Du
 r KV 220 "Spatzenmesse" Solisten\, Chor und Orchester
DESCRIPTION:https://pfarreien-bistum-augsburg.df-preview.de/heilige-messe-m
 usikalische-gestaltung-w-a-mozart-messe-in-c-dur-kv-220-spatzenmesse-solis
 ten-chor-und-orchester_id1692589
DTSTART;TZID=Europe/Berlin:20260406T093000
DURATION:PT30M
LOCATION:St. Pankratius
END:VEVENT
END:VCALENDAR
