BEGIN:VCALENDAR
VERSION:2.0
PRODID:-//Sabre//Sabre VObject 4.5.8//EN
CALSCALE:GREGORIAN
BEGIN:VEVENT
UID:sabre-vobject-a56c4595-05ef-4f86-98f1-80c82fcc8a56
DTSTAMP:20260424T092545Z
SUMMARY:konstituierende Pfarrgemeinderatsitzung im Bürgerhaus
DESCRIPTION:https://pfarreien-bistum-augsburg.df-preview.de/konstituierende
 -pfarrgemeinderatsitzung-im-buergerhaus_id1692570
DTSTART;TZID=Europe/Berlin:20260318T193000
DURATION:PT30M
LOCATION:St. Johannes Baptist
END:VEVENT
END:VCALENDAR
