BEGIN:VCALENDAR
VERSION:2.0
PRODID:-//Sabre//Sabre VObject 4.5.8//EN
CALSCALE:GREGORIAN
BEGIN:VEVENT
UID:sabre-vobject-ea034942-5b21-44dc-8422-4527b4ae6eef
DTSTAMP:20260424T092434Z
SUMMARY:Kollekte für Misereor
DESCRIPTION:https://pfarreien-bistum-augsburg.df-preview.de/kollekte-fuer-m
 isereor_id1692530
DTSTART;TZID=Europe/Berlin:20260322T000000
DURATION:PT30M
LOCATION:St. Martin
END:VEVENT
END:VCALENDAR
