BEGIN:VCALENDAR
VERSION:2.0
PRODID:-//Sabre//Sabre VObject 4.5.8//EN
CALSCALE:GREGORIAN
BEGIN:VEVENT
UID:sabre-vobject-f1b73145-592f-4364-9c86-303c7d47cc14
DTSTAMP:20260424T041215Z
SUMMARY:Heilige Messe\, Familiengottesdienst\, musikalisch gestaltet von de
 r FAMIGO-Band
DESCRIPTION:https://pfarreien-bistum-augsburg.df-preview.de/heilige-messe-f
 amiliengottesdienst-musikalisch-gestaltet-von-der-famigo-band_id1692529
DTSTART;TZID=Europe/Berlin:20260322T100000
DURATION:PT30M
LOCATION:St. Martin
END:VEVENT
END:VCALENDAR
