BEGIN:VCALENDAR
VERSION:2.0
PRODID:-//Sabre//Sabre VObject 4.5.8//EN
CALSCALE:GREGORIAN
BEGIN:VEVENT
UID:sabre-vobject-d018aa99-f092-4085-92b0-8be486a07033
DTSTAMP:20260424T134216Z
SUMMARY:Bruderschaftsgottesdienst
DESCRIPTION:https://pfarreien-bistum-augsburg.df-preview.de/bruderschaftsgo
 ttesdienst_id1692497
DTSTART;TZID=Europe/Berlin:20260409T080000
DURATION:PT30M
LOCATION:St. Pankratius
END:VEVENT
END:VCALENDAR
