BEGIN:VCALENDAR
VERSION:2.0
PRODID:-//Sabre//Sabre VObject 4.5.8//EN
CALSCALE:GREGORIAN
BEGIN:VEVENT
UID:sabre-vobject-717d7637-4682-47e7-9eae-889b21ae6a10
DTSTAMP:20260425T025328Z
SUMMARY:Osternacht mit Speisenweihe
DESCRIPTION:https://pfarreien-bistum-augsburg.df-preview.de/osternacht-mit-
 speisenweihe_id1692452
DTSTART;TZID=Europe/Berlin:20260405T050000
DURATION:PT30M
LOCATION:St. Peter und Paul\, Kirchweg 2\, 86462 Langweid-Achsheim
END:VEVENT
END:VCALENDAR
