BEGIN:VCALENDAR
VERSION:2.0
PRODID:-//Sabre//Sabre VObject 4.5.8//EN
CALSCALE:GREGORIAN
BEGIN:VEVENT
UID:sabre-vobject-135a27d2-86ac-41ac-9508-326db60827f5
DTSTAMP:20260423T121328Z
SUMMARY:Schulgottesdienst zu Ostern 1. u. 2. Klasse
DESCRIPTION:https://pfarreien-bistum-augsburg.df-preview.de/schulgottesdien
 st-zu-ostern-1-u-2-klasse_id1692446
DTSTART;TZID=Europe/Berlin:20260325T081500
DURATION:PT30M
LOCATION:St. Johannes Baptist
END:VEVENT
END:VCALENDAR
